BEGIN:VCALENDAR
VERSION:2.0
PRODID:icalendar-ruby
CALSCALE:GREGORIAN
METHOD:PUBLISH
BEGIN:VEVENT
DTSTAMP:20260423T024143Z
UID:8-703910@faithracine.com
DTSTART:20261102T153000Z
DTEND:20261102T180000Z
CLASS:PUBLIC
CREATED:20260422T213404
DESCRIPTION:Women's Study\nled by Phyllis Murphy\ngoes through the summer -
   various studies throughout the year
LAST-MODIFIED:20260422T213404
LOCATION:Life Center
SUMMARY:Women's Study
URL;VALUE=URI:https://www.faithracine.com/events/womens-study/2026-11-02
END:VEVENT
END:VCALENDAR
