BEGIN:VCALENDAR
VERSION:2.0
PRODID:icalendar-ruby
CALSCALE:GREGORIAN
METHOD:PUBLISH
BEGIN:VEVENT
DTSTAMP:20260422T225329Z
UID:8-702661@faithracine.com
DTSTART:20261012T143000Z
DTEND:20261012T170000Z
CLASS:PUBLIC
CREATED:20260422T154823
DESCRIPTION:Women's Study\nled by Phyllis Murphy\ngoes through the summer -
   various studies throughout the year
LAST-MODIFIED:20260422T154823
LOCATION:Life Center
SUMMARY:Women's Study
URL;VALUE=URI:https://www.faithracine.com/events/womens-study/2026-10-12
END:VEVENT
END:VCALENDAR
