BEGIN:VCALENDAR
VERSION:2.0
PRODID:icalendar-ruby
CALSCALE:GREGORIAN
METHOD:PUBLISH
BEGIN:VEVENT
DTSTAMP:20260422T151010Z
UID:8-701410@faithracine.com
DTSTART:20260907T143000Z
DTEND:20260907T170000Z
CLASS:PUBLIC
CREATED:20260422T095804
DESCRIPTION:Women's Study\nled by Phyllis Murphy\ngoes through the summer -
   various studies throughout the year
LAST-MODIFIED:20260422T095804
LOCATION:Life Center
SUMMARY:Women's Study
URL;VALUE=URI:https://www.faithracine.com/events/womens-study/2026-09-07
END:VEVENT
END:VCALENDAR
