BEGIN:VCALENDAR
VERSION:2.0
PRODID:icalendar-ruby
CALSCALE:GREGORIAN
METHOD:PUBLISH
BEGIN:VEVENT
DTSTAMP:20260422T101737Z
UID:8-700042@faithracine.com
DTSTART:20260817T143000Z
DTEND:20260817T170000Z
CLASS:PUBLIC
CREATED:20260421T195830
DESCRIPTION:Women's Study\nled by Phyllis Murphy\ngoes through the summer -
   various studies throughout the year
LAST-MODIFIED:20260421T195830
LOCATION:Life Center
SUMMARY:Women's Study
URL;VALUE=URI:https://www.faithracine.com/events/womens-study/2026-08-17
END:VEVENT
END:VCALENDAR
